BEGIN:VCALENDAR
VERSION:2.0
PRODID:-//State of the Arts - ECPv6.2.0.1//NONSGML v1.0//EN
CALSCALE:GREGORIAN
METHOD:PUBLISH
X-ORIGINAL-URL:https://state-of-the-arts.net
X-WR-CALDESC:Events for State of the Arts
REFRESH-INTERVAL;VALUE=DURATION:PT1H
X-Robots-Tag:noindex
X-PUBLISHED-TTL:PT1H
BEGIN:VTIMEZONE
TZID:UTC
BEGIN:STANDARD
TZOFFSETFROM:+0000
TZOFFSETTO:+0000
TZNAME:UTC
DTSTART:20190101T000000
END:STANDARD
END:VTIMEZONE
BEGIN:VEVENT
DTSTART;TZID=UTC:20191202T190000
DTEND;TZID=UTC:20191202T230000
DTSTAMP:20260423T175951
CREATED:20191130T142611Z
LAST-MODIFIED:20191130T143029Z
UID:1444-1575313200-1575327600@state-of-the-arts.net
SUMMARY:Weekly Sota Meeting
DESCRIPTION:Every Monday we gather at 19:30 in the Beursschouwburg. \nFeel free to join us and be part of a growing community of artist. \n 
URL:https://state-of-the-arts.net/event/weekly-sota-meeting/
LOCATION:Beursschouwburg
CATEGORIES:Coming up,Recurring
ATTACH;FMTTYPE=image/jpeg:https://state-of-the-arts.net/wp-content/uploads/2019/11/beurs-small.jpg
END:VEVENT
END:VCALENDAR